BEGIN:VCALENDAR
VERSION:2.0
PRODID:-//Musik als Wissensmaschine - ECPv5.3.2//NONSGML v1.0//EN
CALSCALE:GREGORIAN
METHOD:PUBLISH
X-WR-CALNAME:Musik als Wissensmaschine
X-ORIGINAL-URL:https://musikalswissensmaschine.de
X-WR-CALDESC:Events for Musik als Wissensmaschine
BEGIN:VTIMEZONE
TZID:UTC
BEGIN:STANDARD
TZOFFSETFROM:+0000
TZOFFSETTO:+0000
TZNAME:UTC
DTSTART:20210101T000000
END:STANDARD
END:VTIMEZONE
BEGIN:VEVENT
DTSTART;TZID=UTC:20210319T110000
DTEND;TZID=UTC:20210319T183000
DTSTAMP:20260424T032517
CREATED:20210309T121250Z
LAST-MODIFIED:20210309T121741Z
UID:1010-1616151600-1616178600@musikalswissensmaschine.de
SUMMARY:Friday - 19.03. Media-Mediated Sounds & Sound-Mediated Knowledge // Medienvermittelte Klänge & klangvermitteltes Wissen
DESCRIPTION:
URL:https://musikalswissensmaschine.de/event/friday/
END:VEVENT
END:VCALENDAR